BEGIN:VCALENDAR
VERSION:2.0
PRODID:-//81.88.36.23//NONSGML kigkonsult.se iCalcreator 2.20//
CALSCALE:GREGORIAN
METHOD:PUBLISH
X-WR-TIMEZONE:Europe/Berlin
BEGIN:VEVENT
UID:event139@SV Einheit Ueckermünde
DTSTAMP:20260424T131529Z
CATEGORIES:Termine
DESCRIPTION:25. Ueckermünder Weihnachtslauf\nKategorie: Termine\nICS-Link: 
 https://sv-einheit-ueckermuende.eu/index.php?option=com_jem&view=event&id=
 139:25-ueckermuender-weihnachtslauf\n
DTSTART;TZID=Europe/Berlin:20251129T100000
DTEND;TZID=Europe/Berlin:20251129T100000
LOCATION:Sporthalle Regionalschule\,Goethestraße 3\,17373 Ueckermünde
SUMMARY:25. Ueckermünder Weihnachtslauf
URL:https://sv-einheit-ueckermuende.eu/index.php?option=com_jem&view=event&
 id=139:25-ueckermuender-weihnachtslauf
END:VEVENT
END:VCALENDAR
